BEGIN:VCALENDAR
VERSION:2.0
PRODID:-//Southeast Michigan Synod - ECPv6.15.20//NONSGML v1.0//EN
CALSCALE:GREGORIAN
METHOD:PUBLISH
X-WR-CALNAME:Southeast Michigan Synod
X-ORIGINAL-URL:https://semisynod.com
X-WR-CALDESC:Events for Southeast Michigan Synod
REFRESH-INTERVAL;VALUE=DURATION:PT1H
X-Robots-Tag:noindex
X-PUBLISHED-TTL:PT1H
BEGIN:VTIMEZONE
TZID:America/Detroit
BEGIN:DAYLIGHT
TZOFFSETFROM:-0500
TZOFFSETTO:-0400
TZNAME:EDT
DTSTART:20220313T070000
END:DAYLIGHT
BEGIN:STANDARD
TZOFFSETFROM:-0400
TZOFFSETTO:-0500
TZNAME:EST
DTSTART:20221106T060000
END:STANDARD
BEGIN:DAYLIGHT
TZOFFSETFROM:-0500
TZOFFSETTO:-0400
TZNAME:EDT
DTSTART:20230312T070000
END:DAYLIGHT
BEGIN:STANDARD
TZOFFSETFROM:-0400
TZOFFSETTO:-0500
TZNAME:EST
DTSTART:20231105T060000
END:STANDARD
BEGIN:DAYLIGHT
TZOFFSETFROM:-0500
TZOFFSETTO:-0400
TZNAME:EDT
DTSTART:20240310T070000
END:DAYLIGHT
BEGIN:STANDARD
TZOFFSETFROM:-0400
TZOFFSETTO:-0500
TZNAME:EST
DTSTART:20241103T060000
END:STANDARD
END:VTIMEZONE
BEGIN:VEVENT
DTSTART;TZID=America/Detroit:20230825T191000
DTEND;TZID=America/Detroit:20230825T191000
DTSTAMP:20260422T215813
CREATED:20230510T184336Z
LAST-MODIFIED:20230722T110717Z
UID:3143-1692990600-1692990600@semisynod.com
SUMMARY:Synod Day at Comerica Park
DESCRIPTION:Houston Astros at Detroit Tigers \nJoin us for a night at the ballpark. This event is open to all—clergy\, members\, friends and family. After the game stick around for the fantastic fireworks display! \nThe SEMI Synod Office will only fill ticket orders placed by your church. \n\nNo individual tickets will be sold\nPaid ticket requests submitted to the SEMI Synod Office will be filled in advance\nAre requests are due by July 25th\nContact us: news@semisynod.com & add “Tigers Tix” in the subject line\n\nDownload Event Flyer PDF
URL:https://semisynod.com/event/synod-day-at-comerica-park/
LOCATION:Comerica Park\, 2100 Woodward Ave.\, Detroit\, MI\, 48313\, United States
CATEGORIES:Main Calendar
ATTACH;FMTTYPE=image/jpeg:https://semisynod.com/wp-content/uploads/2023/07/Synod.ComericaPark.jpg
END:VEVENT
BEGIN:VEVENT
DTSTART;VALUE=DATE:20230518
DTEND;VALUE=DATE:20230521
DTSTAMP:20260422T215813
CREATED:20220920T135440Z
LAST-MODIFIED:20230420T190343Z
UID:2562-1684368000-1684627199@semisynod.com
SUMMARY:2023 Assembly
DESCRIPTION:Click here for 2023 Assembly Document and Details
URL:https://semisynod.com/event/2023-assembly/
LOCATION:Blue Water Convention Center\, 800 Harker St\, Port Huron\, MI\, 48060\, United States
CATEGORIES:Main Calendar
ATTACH;FMTTYPE=image/png:https://semisynod.com/wp-content/uploads/2022/09/2023-Assembly-logo.png
END:VEVENT
END:VCALENDAR