BEGIN:VCALENDAR
VERSION:2.0
PRODID:-//Southeast Michigan Synod - ECPv6.15.20//NONSGML v1.0//EN
CALSCALE:GREGORIAN
METHOD:PUBLISH
X-WR-CALNAME:Southeast Michigan Synod
X-ORIGINAL-URL:https://semisynod.com
X-WR-CALDESC:Events for Southeast Michigan Synod
REFRESH-INTERVAL;VALUE=DURATION:PT1H
X-Robots-Tag:noindex
X-PUBLISHED-TTL:PT1H
BEGIN:VTIMEZONE
TZID:America/Detroit
BEGIN:DAYLIGHT
TZOFFSETFROM:-0500
TZOFFSETTO:-0400
TZNAME:EDT
DTSTART:20220313T070000
END:DAYLIGHT
BEGIN:STANDARD
TZOFFSETFROM:-0400
TZOFFSETTO:-0500
TZNAME:EST
DTSTART:20221106T060000
END:STANDARD
BEGIN:DAYLIGHT
TZOFFSETFROM:-0500
TZOFFSETTO:-0400
TZNAME:EDT
DTSTART:20230312T070000
END:DAYLIGHT
BEGIN:STANDARD
TZOFFSETFROM:-0400
TZOFFSETTO:-0500
TZNAME:EST
DTSTART:20231105T060000
END:STANDARD
BEGIN:DAYLIGHT
TZOFFSETFROM:-0500
TZOFFSETTO:-0400
TZNAME:EDT
DTSTART:20240310T070000
END:DAYLIGHT
BEGIN:STANDARD
TZOFFSETFROM:-0400
TZOFFSETTO:-0500
TZNAME:EST
DTSTART:20241103T060000
END:STANDARD
BEGIN:DAYLIGHT
TZOFFSETFROM:-0500
TZOFFSETTO:-0400
TZNAME:EDT
DTSTART:20250309T070000
END:DAYLIGHT
BEGIN:STANDARD
TZOFFSETFROM:-0400
TZOFFSETTO:-0500
TZNAME:EST
DTSTART:20251102T060000
END:STANDARD
BEGIN:DAYLIGHT
TZOFFSETFROM:-0500
TZOFFSETTO:-0400
TZNAME:EDT
DTSTART:20260308T070000
END:DAYLIGHT
BEGIN:STANDARD
TZOFFSETFROM:-0400
TZOFFSETTO:-0500
TZNAME:EST
DTSTART:20261101T060000
END:STANDARD
BEGIN:DAYLIGHT
TZOFFSETFROM:-0500
TZOFFSETTO:-0400
TZNAME:EDT
DTSTART:20270314T070000
END:DAYLIGHT
BEGIN:STANDARD
TZOFFSETFROM:-0400
TZOFFSETTO:-0500
TZNAME:EST
DTSTART:20271107T060000
END:STANDARD
END:VTIMEZONE
BEGIN:VEVENT
DTSTART;VALUE=DATE:20260423
DTEND;VALUE=DATE:20260425
DTSTAMP:20260422T175413
CREATED:20251217T132145Z
LAST-MODIFIED:20260417T103936Z
UID:5308-1776902400-1777075199@semisynod.com
SUMMARY:Nelson W. Trout Lectures
DESCRIPTION:OPEN EVENT FLYER PDF \nFeaturing the Rev. Traci Blackmon \nRegistration open January 19\, 2026 \nREGISTER
URL:https://semisynod.com/event/nelson-w-trout-lectures/
LOCATION:Trinity Lutheran Seminary at Capital University\, 2199 E Main St\, Bexley\, OH\, 43209\, United States
CATEGORIES:Front Page,Main Calendar
ATTACH;FMTTYPE=image/jpeg:https://semisynod.com/wp-content/uploads/2025/12/2026_NTL_42.5x40.5-Poster_v5.jpg
END:VEVENT
BEGIN:VEVENT
DTSTART;TZID=America/Detroit:20260221T090000
DTEND;TZID=America/Detroit:20260221T150000
DTSTAMP:20260422T175413
CREATED:20251217T133311Z
LAST-MODIFIED:20251217T135725Z
UID:5314-1771664400-1771686000@semisynod.com
SUMMARY:Seminary Discernment Retreat
DESCRIPTION:Sign up HERE
URL:https://semisynod.com/event/seminary-discernment-retreat/
LOCATION:Holy Cross Lutheran Church in Livonia\, 30650 Six Mile Rd\, Livonia\, MI\, 48152\, United States
CATEGORIES:Front Page,Main Calendar
ATTACH;FMTTYPE=image/jpeg:https://semisynod.com/wp-content/uploads/2025/12/SEMI-Synod-Discernment-Retreat-Promo-scaled.jpg
END:VEVENT
BEGIN:VEVENT
DTSTART;VALUE=DATE:20260221
DTEND;VALUE=DATE:20260329
DTSTAMP:20260422T175413
CREATED:20251217T134220Z
LAST-MODIFIED:20251217T135303Z
UID:5319-1771632000-1774742399@semisynod.com
SUMMARY:Licensed Lay Academy: Introduction to the Old Testament
DESCRIPTION:February 21 – March 28\n(in person) at Spirit of Christ Lutheran Church/Clawson \nRegister Here
URL:https://semisynod.com/event/licensed-lay-academy/
LOCATION:Spirit of Christ Lutheran Church\, 749 W 14 Mile Rd\, Clawson\, MI\, 48017\, United States
CATEGORIES:Front Page,Main Calendar
END:VEVENT
BEGIN:VEVENT
DTSTART;TZID=America/Detroit:20260118T150000
DTEND;TZID=America/Detroit:20260118T150000
DTSTAMP:20260422T175413
CREATED:20251120T194249Z
LAST-MODIFIED:20251217T121814Z
UID:5287-1768748400-1768748400@semisynod.com
SUMMARY:MLK Sunday Service
DESCRIPTION:Featuring Rev. Dr. Kevin Dudley\, Trinity Lutheran Seminary \nJoin us for light refreshments at 2 p.m. 
URL:https://semisynod.com/event/mlk-sunday/
LOCATION:Gracious Saviour Lutheran Church\, 19484 James Couzens Fwy\, Detroit\, MI\, 48235\, United States
CATEGORIES:Front Page,Main Calendar
ATTACH;FMTTYPE=image/jpeg:https://semisynod.com/wp-content/uploads/2025/12/MLK-2026.jpg
END:VEVENT
BEGIN:VEVENT
DTSTART;VALUE=DATE:20260117
DTEND;VALUE=DATE:20260215
DTSTAMP:20260422T175413
CREATED:20251217T133037Z
LAST-MODIFIED:20251218T103651Z
UID:5312-1768608000-1771113599@semisynod.com
SUMMARY:Licensed Lay Academy: Issue in Lutheran Ethics
DESCRIPTION:Issue in Lutheran Ethics on ZOOM\,\nJanuary 17 – February 14\, 2026
URL:https://semisynod.com/event/licensed-lay-academy-issue-in-lutheran-ethics/
CATEGORIES:Front Page,Main Calendar
END:VEVENT
BEGIN:VEVENT
DTSTART;VALUE=DATE:20260109
DTEND;VALUE=DATE:20260116
DTSTAMP:20260422T175413
CREATED:20251218T103147Z
LAST-MODIFIED:20251218T152037Z
UID:5335-1767916800-1768521599@semisynod.com
SUMMARY:ELCJHL Celebration & Bishop’s installation
DESCRIPTION:ELCJHL (Evangelical Lutheran Church in Jerusalem and the Holy Land) Honoring Sermon and Reception for outgoing Bishop Dr. Sani Ibrahim Azar & Consecration Service for Bishop-elect Rev. Dr. Imad Haddad
URL:https://semisynod.com/event/elcjhl-celebration-bishops-installation/
CATEGORIES:Front Page,Main Calendar
END:VEVENT
BEGIN:VEVENT
DTSTART;TZID=America/Detroit:20251025T093000
DTEND;TZID=America/Detroit:20251025T150000
DTSTAMP:20260422T175413
CREATED:20241210T145457Z
LAST-MODIFIED:20250905T132141Z
UID:4723-1761384600-1761404400@semisynod.com
SUMMARY:Licensed Lay Ministers Annual Retreat
DESCRIPTION:Register Here
URL:https://semisynod.com/event/licensed-lay-ministers-annual-retreat/
LOCATION:Barth Hall — Cathedral Church of St. Paul\, 4800 Woodward Ave\, Detroit\, MI\, United States
CATEGORIES:Front Page,Main Calendar
ATTACH;FMTTYPE=image/png:https://semisynod.com/wp-content/uploads/2025/09/LLM-Retreat-2025.png
END:VEVENT
BEGIN:VEVENT
DTSTART;VALUE=DATE:20251019
DTEND;VALUE=DATE:20251022
DTSTAMP:20260422T175413
CREATED:20250910T143940Z
LAST-MODIFIED:20250910T144526Z
UID:5214-1760832000-1761091199@semisynod.com
SUMMARY:“For Such A Time As This”\, Autumn Leadership Event (ALE)
DESCRIPTION:October 19-21\, 2025 in Traverse City for Rostered Leaders and Synodically Authorized /Licensed Lay Ministers. \nRegistration form
URL:https://semisynod.com/event/for-such-a-time-as-this-autumn-leadership-event-ale/
CATEGORIES:Front Page,Main Calendar
ATTACH;FMTTYPE=image/jpeg:https://semisynod.com/wp-content/uploads/2025/09/ALE.2025.jpg
END:VEVENT
BEGIN:VEVENT
DTSTART;VALUE=DATE:20251004
DTEND;VALUE=DATE:20251005
DTSTAMP:20260422T175413
CREATED:20250129T173336Z
LAST-MODIFIED:20250905T120427Z
UID:4766-1759536000-1759622399@semisynod.com
SUMMARY:3rd Annual Justice Summit
DESCRIPTION:A Place At The Table\nFree educational workshops\, daycare provide\, lunch provided (with optional donation). \nFor more information go to semisynodjustice.com/justicesummit25
URL:https://semisynod.com/event/3rd-annual-justice-summit/
LOCATION:Hope Lutheran Church\, 39200 W 12 Mile Rd\, Farmington Hills\, MI\, 48331\, United States
CATEGORIES:Front Page,Main Calendar
ATTACH;FMTTYPE=image/jpeg:https://semisynod.com/wp-content/uploads/2025/09/semisynod-js-hd-presentation-screen-250421.jpg
END:VEVENT
BEGIN:VEVENT
DTSTART;TZID=America/Detroit:20250909T090000
DTEND;TZID=America/Detroit:20250909T090000
DTSTAMP:20260422T175413
CREATED:20250905T122755Z
LAST-MODIFIED:20250905T131701Z
UID:5187-1757408400-1757408400@semisynod.com
SUMMARY:Breakfast with the Bishop
DESCRIPTION:Register Here \nJoin us for a morning of conversation with Bishop Kreiss. This time will include updates from the synod and reflections from the 2025 ELCA Churchwide Assembly.\nPlease RSVP by September 2\, 2025 \nDates:  \nTuesday\, September 9\, 9am – King of Kings/Shelby Township;\nTuesday\, September 23\, 9am – Unity/Southgate;\nWednesday\, October 1\, 9am – Transfiguration/Fenton
URL:https://semisynod.com/event/breakfast-with-the-bishop/
CATEGORIES:Front Page,Main Calendar
END:VEVENT
BEGIN:VEVENT
DTSTART;TZID=America/Detroit:20250816T090000
DTEND;TZID=America/Detroit:20250816T150000
DTSTAMP:20260422T175413
CREATED:20241015T134906Z
LAST-MODIFIED:20241015T134906Z
UID:4637-1755334800-1755356400@semisynod.com
SUMMARY:Synod Council Meeting
DESCRIPTION:
URL:https://semisynod.com/event/synod-council-meeting-5/
CATEGORIES:Front Page,Main Calendar
END:VEVENT
BEGIN:VEVENT
DTSTART;VALUE=DATE:20250516
DTEND;VALUE=DATE:20250518
DTSTAMP:20260422T175413
CREATED:20240924T142139Z
LAST-MODIFIED:20250228T200048Z
UID:4559-1747353600-1747526399@semisynod.com
SUMMARY:2025 Synod Assembly
DESCRIPTION:More information is available on the: \n2025 Synod Assembly Page\nREGISTRATIONS MUST BE RECEIVED BY APRIL 15 to receive the early bird pricing \nREGISTRATION CLOSES MAY 1 \nRegister Online
URL:https://semisynod.com/event/2025-synod-assembly/
LOCATION:Celebration Lutheran Church\, 39375 Joy Rd\, Westland\, MI\, 48185\, United States
CATEGORIES:Front Page,Main Calendar
ATTACH;FMTTYPE=image/png:https://semisynod.com/wp-content/uploads/2024/09/25-synod-assembly.png
END:VEVENT
BEGIN:VEVENT
DTSTART;TZID=America/Detroit:20250405T090000
DTEND;TZID=America/Detroit:20250405T150000
DTSTAMP:20260422T175413
CREATED:20241015T134355Z
LAST-MODIFIED:20241210T144504Z
UID:4635-1743843600-1743865200@semisynod.com
SUMMARY:Synod Council Meeting
DESCRIPTION:
URL:https://semisynod.com/event/synod-council-meeting-4/
CATEGORIES:Front Page,Main Calendar
END:VEVENT
BEGIN:VEVENT
DTSTART;TZID=America/Detroit:20250329T100000
DTEND;TZID=America/Detroit:20250329T140000
DTSTAMP:20260422T175413
CREATED:20250129T140333Z
LAST-MODIFIED:20250129T141428Z
UID:4758-1743242400-1743256800@semisynod.com
SUMMARY:33rd Annual Katy York Honoring Women Luncheon
DESCRIPTION:Download Event Flyer
URL:https://semisynod.com/event/33rd-annual-katy-york-honoring-women-luncheon/
LOCATION:Holy Cross Lutheran Church in Livonia\, 30650 Six Mile Rd\, Livonia\, MI\, 48152\, United States
CATEGORIES:Front Page,Main Calendar
END:VEVENT
BEGIN:VEVENT
DTSTART;TZID=America/Detroit:20250216T090000
DTEND;TZID=America/Detroit:20250216T150000
DTSTAMP:20260422T175413
CREATED:20241015T134304Z
LAST-MODIFIED:20241210T144416Z
UID:4633-1739696400-1739718000@semisynod.com
SUMMARY:Synod Council Meeting
DESCRIPTION:
URL:https://semisynod.com/event/synod-council-meeting-3/
CATEGORIES:Front Page,Main Calendar
END:VEVENT
BEGIN:VEVENT
DTSTART;TZID=America/Detroit:20250119T150000
DTEND;TZID=America/Detroit:20250119T150000
DTSTAMP:20260422T175413
CREATED:20241210T145047Z
LAST-MODIFIED:20241210T150452Z
UID:4719-1737298800-1737298800@semisynod.com
SUMMARY:Annual MLK Worship
DESCRIPTION:
URL:https://semisynod.com/event/annual-mlk-worship/
LOCATION:Genesis Lutheran Church\, 7200 Mack Ave.\, Detroit\, MI\, 48214\, United States
CATEGORIES:Front Page,Main Calendar
END:VEVENT
BEGIN:VEVENT
DTSTART;VALUE=DATE:20241223
DTEND;VALUE=DATE:20250104
DTSTAMP:20260422T175413
CREATED:20241210T144847Z
LAST-MODIFIED:20241210T144847Z
UID:4717-1734912000-1735948799@semisynod.com
SUMMARY:Synod Offices Closed
DESCRIPTION:Offices will re-open on January 6\, 2025
URL:https://semisynod.com/event/synod-offices-closed-2/
CATEGORIES:Front Page,Main Calendar
END:VEVENT
BEGIN:VEVENT
DTSTART;VALUE=DATE:20241201
DTEND;VALUE=DATE:20241225
DTSTAMP:20260422T175413
CREATED:20240924T135526Z
LAST-MODIFIED:20240924T135636Z
UID:4527-1733011200-1735084799@semisynod.com
SUMMARY:Season of Advent
DESCRIPTION:The Season of Advent is December 1-24
URL:https://semisynod.com/event/season-of-advent/
CATEGORIES:Front Page,Main Calendar
END:VEVENT
BEGIN:VEVENT
DTSTART;VALUE=DATE:20241128
DTEND;VALUE=DATE:20241130
DTSTAMP:20260422T175413
CREATED:20240924T135309Z
LAST-MODIFIED:20240924T135848Z
UID:4524-1732752000-1732924799@semisynod.com
SUMMARY:Synod Offices Closed
DESCRIPTION:Thanksgiving Holiday Nov. 28-29
URL:https://semisynod.com/event/synod-offices-closed/
CATEGORIES:Front Page,Main Calendar
END:VEVENT
BEGIN:VEVENT
DTSTART;TZID=America/Detroit:20241116T090000
DTEND;TZID=America/Detroit:20241116T150000
DTSTAMP:20260422T175413
CREATED:20240924T133919Z
LAST-MODIFIED:20241015T134559Z
UID:4515-1731747600-1731769200@semisynod.com
SUMMARY:Synod Council Meeting
DESCRIPTION:
URL:https://semisynod.com/event/synod-council-meeting/
CATEGORIES:Front Page,Main Calendar
END:VEVENT
BEGIN:VEVENT
DTSTART;TZID=America/Detroit:20241029T120000
DTEND;TZID=America/Detroit:20241029T120000
DTSTAMP:20260422T175413
CREATED:20241015T140556Z
LAST-MODIFIED:20241015T141007Z
UID:4641-1730203200-1730203200@semisynod.com
SUMMARY:God’s Love Made Real
DESCRIPTION:Join ELCA Presiding Bishop Elizabeth Eaton for a conversation about God’s Love Made Real. This ELCA movement encourages us to create a world experiencing the difference God’s grace and love in Christ make for all people and creation. \nTuesday\, Oct. 29\, 12 p.m. Eastern time \nRegistration is encouraged\, but not required. \nThis event will take place on Zoom \nWhat can I expect?\nBishop Eaton will share why God’s Love Made Real is meaningful to her and the future of the church. The Rev. Donald Kreiss\, bishop of the Southeast Michigan Synod\, will host the conversation\, and participants will have a chance to ask questions and share stories. \nIs this event for me?\nThis webinar is especially for people who care about the ELCA and live in the Southeast Michigan\, North/West Lower Michigan\, Indiana-Kentucky\, Northwestern Ohio\, Northeastern Ohio and Southern Ohio synods. If you don’t live in one of these synods\, stay tuned for an upcoming event in your region. \nCan I watch it later?\nA recording may be available at some point in the future\, but we encourage you to stream the event live on Tuesday\, Oct. 29\, at 12 p.m. Eastern time. \nWhat else do I need to know?\nLearn more about God’s Love Made Real at lovemadereal.elca.org. \nWe look forward to sharing this time with you! \nREGISTRATION LINK: Evangelical Lutheran Church in America (elca.org)
URL:https://semisynod.com/event/gods-love-made-real/
LOCATION:Zoom\, online
CATEGORIES:Front Page,Main Calendar
ATTACH;FMTTYPE=image/png:https://semisynod.com/wp-content/uploads/2024/10/Oct-29-Gods-Love-Made-Real-1.png
END:VEVENT
BEGIN:VEVENT
DTSTART;VALUE=DATE:20241026
DTEND;VALUE=DATE:20241027
DTSTAMP:20260422T175413
CREATED:20240924T134259Z
LAST-MODIFIED:20240924T134605Z
UID:4519-1729900800-1729987199@semisynod.com
SUMMARY:Licensed Lay Ministry Retreat
DESCRIPTION:Licensed Lay Ministry Retreat at Spirit of Christ\, Clawson
URL:https://semisynod.com/event/licensed-lay-ministry-retreat/
LOCATION:Spirit of Christ Lutheran Church\, 749 W 14 Mile Rd\, Clawson\, MI\, 48017\, United States
CATEGORIES:Front Page,Main Calendar
END:VEVENT
BEGIN:VEVENT
DTSTART;VALUE=DATE:20241014
DTEND;VALUE=DATE:20241017
DTSTAMP:20260422T175413
CREATED:20240924T130503Z
LAST-MODIFIED:20240924T140840Z
UID:4509-1728864000-1729123199@semisynod.com
SUMMARY:Autumn Leadership Event
DESCRIPTION:Autumn Leadership Event for rostered leaders\, lay ministers\, synod council. \nFeaturing The Rev. Daniel Beaudoin\, Bishop of the Northwest Ohio Synod\, ELCA \nCost is $125 + lodging
URL:https://semisynod.com/event/autumn-leadership-event/
LOCATION:Sauder Village\, 22611 OH-2\, Archbold\, OH\, 43502\, United States
CATEGORIES:Front Page,Main Calendar
ATTACH;FMTTYPE=image/png:https://semisynod.com/wp-content/uploads/2024/09/As-Yourself.1.png
END:VEVENT
BEGIN:VEVENT
DTSTART;TZID=America/Detroit:20240817T130500
DTEND;TZID=America/Detroit:20240817T130500
DTSTAMP:20260422T175413
CREATED:20240502T123741Z
LAST-MODIFIED:20240618T145212Z
UID:3826-1723899900-1723899900@semisynod.com
SUMMARY:Southeast Michigan’s 2nd Annual Day at the Park
DESCRIPTION:Detroit Tigers vs. New York Yankees\nOpen to all clergy\, members\, friends and family. The SEMI Synod Office will only fill ticket orders placed by your church — No individual tickets will be sold. \nPaid ticket requests submitted to the Synod Office will be filled in advance. All requests are due by July 25th. \nUse this form to order tickets: \nPlease enable JavaScript in your browser to complete this form.Please enable JavaScript in your browser to complete this form.Name *FirstLastEmail *Congregation *City *Number of Tickets *Select Amount - $0.004 Tickets - $140.005 Tickets - $175.006 Tickets - $210.007 Tickets - $245.008 Tickets - $280.009 Tickets - $315.0010 Tickets - $350.0011 Tickets - $385.0012 Tickets - $420.0013 Tickets - $455.0014 Tickets - $490.0015 Tickets - $525.0016 Tickets - $560.0017 Tickets - $595.0018 Tickets - $630.0019 Tickets - $665.0020 Tickets - $700.0021 Tickets - $735.0022 Tickets - $770.0023 Tickets - $805.0024 Tickets - $840.0025 Tickets - $875.0026 Tickets - $910.0027 Tickets - $945.0028 Tickets - $980.0029 Tickets - $1\,015.0030 Tickets - $1\,050.00You will receive payment instructions to the email address submitted with this form. \nTotal$0.00CommentsSubmit
URL:https://semisynod.com/event/southeast-michigans-2nd-annual-day-at-the-park/
LOCATION:Comerica Park\, 2100 Woodward Ave.\, Detroit\, MI\, 48313\, United States
CATEGORIES:Main Calendar
ATTACH;FMTTYPE=image/png:https://semisynod.com/wp-content/uploads/2024/06/Tigers-2024-1.png
END:VEVENT
BEGIN:VEVENT
DTSTART;VALUE=DATE:20240511
DTEND;VALUE=DATE:20240512
DTSTAMP:20260422T175413
CREATED:20240223T154245Z
LAST-MODIFIED:20240223T154800Z
UID:3549-1715385600-1715471999@semisynod.com
SUMMARY:2024 Synod Assembly
DESCRIPTION:
URL:https://semisynod.com/event/2024-synod-assembly/
LOCATION:Prince of Peace Lutheran Church\, 1920 Lewis Avenue\, Ida\, MI\, 48140\, United States
CATEGORIES:Main Calendar
ATTACH;FMTTYPE=image/jpeg:https://semisynod.com/wp-content/uploads/2024/01/Fruits-of-the-Spirit.SA2024.jpg
END:VEVENT
BEGIN:VEVENT
DTSTART;VALUE=DATE:20231021
DTEND;VALUE=DATE:20231022
DTSTAMP:20260422T175413
CREATED:20230420T193413Z
LAST-MODIFIED:20230427T122643Z
UID:3048-1697846400-1697932799@semisynod.com
SUMMARY:Declaring Nursing Homes a Mission Field
DESCRIPTION:Presenter: Pastor Mark Fisher \nCurrently national estimates suggest that over 1\,500\,000 people reside in nursing homes each day with well over 50% rarely receiving visits. Pr. Mark Fisher and his congregation have begun to address the needs in their community by establishing a visitation ministry that includes visiting individuals each month. If you are interested in learning how to start an outreach initiative – possibly with a nursing home in your area – this is a workshop for you.   \nRegister Here
URL:https://semisynod.com/event/declaring-nursing-homes-a-mission-field/
LOCATION:St John/Farmington Hills\, 23225 Gill Rd\, Farmington Hills\, MI\, 48335\, United States
CATEGORIES:Leadership Labs
ATTACH;FMTTYPE=image/png:https://semisynod.com/wp-content/uploads/2023/04/Nursing-Homes-2.png
END:VEVENT
BEGIN:VEVENT
DTSTART;TZID=America/Detroit:20230923T090000
DTEND;TZID=America/Detroit:20230923T120000
DTSTAMP:20260422T175413
CREATED:20230420T193044Z
LAST-MODIFIED:20230427T122701Z
UID:3044-1695459600-1695470400@semisynod.com
SUMMARY:Financial Best Practices
DESCRIPTION:Presenter: Pastor Niklaus Schillack \nOne of the top three reasons people give to nonprofits in the United States is trust in the organization’s responsible financial management. Do you have basic practices in place to give donors this confidence? This lab examines three areas a congregational leader can improve with bitesize steps: 1) Council Policies and Actions; 2) Cashflow Checks and Balances; and 3) Transparency. Tangible examples will be offered including take-home documents for implementing improvements in the congregation(s) you serve. Our session will be led by Pr. Niklaus Schillack\, who holds a B.B.A. in Accounting. \nRegister Here
URL:https://semisynod.com/event/financial-best-practices/
LOCATION:Beautiful Savior/Bloomfield Hills\, 5631 N. Adams Rd.\, Bloomfield Hills\, MI\, 48304\, United States
CATEGORIES:Leadership Labs
ATTACH;FMTTYPE=image/png:https://semisynod.com/wp-content/uploads/2023/04/FinBestPractice.png
END:VEVENT
BEGIN:VEVENT
DTSTART;TZID=America/Detroit:20230825T191000
DTEND;TZID=America/Detroit:20230825T191000
DTSTAMP:20260422T175413
CREATED:20230510T184336Z
LAST-MODIFIED:20230722T110717Z
UID:3143-1692990600-1692990600@semisynod.com
SUMMARY:Synod Day at Comerica Park
DESCRIPTION:Houston Astros at Detroit Tigers \nJoin us for a night at the ballpark. This event is open to all—clergy\, members\, friends and family. After the game stick around for the fantastic fireworks display! \nThe SEMI Synod Office will only fill ticket orders placed by your church. \n\nNo individual tickets will be sold\nPaid ticket requests submitted to the SEMI Synod Office will be filled in advance\nAre requests are due by July 25th\nContact us: news@semisynod.com & add “Tigers Tix” in the subject line\n\nDownload Event Flyer PDF
URL:https://semisynod.com/event/synod-day-at-comerica-park/
LOCATION:Comerica Park\, 2100 Woodward Ave.\, Detroit\, MI\, 48313\, United States
CATEGORIES:Main Calendar
ATTACH;FMTTYPE=image/jpeg:https://semisynod.com/wp-content/uploads/2023/07/Synod.ComericaPark.jpg
END:VEVENT
BEGIN:VEVENT
DTSTART;TZID=America/Detroit:20230715T093000
DTEND;TZID=America/Detroit:20230715T120000
DTSTAMP:20260422T175413
CREATED:20230420T192506Z
LAST-MODIFIED:20230427T122538Z
UID:3040-1689413400-1689422400@semisynod.com
SUMMARY:Updating your Congregation Constitution
DESCRIPTION:George Watson\, Presenter \nIs your Constitution out of date? Why does it matter? Does it accurately reflect your current Council and Committee structure? Do you want to find out the easiest way to amend your Constitution? Join us to learn the answers to these and other questions. All congregations should update their Constitution in response to the triennial Churchwide Assembly. \nRegister Here
URL:https://semisynod.com/event/updating-your-congregation-constitution/
LOCATION:St. James Lutheran Church\, 170 McMillan Rd.\, Grosse Pointe Farms\, MI\, 48236\, United States
CATEGORIES:Leadership Labs
ATTACH;FMTTYPE=image/png:https://semisynod.com/wp-content/uploads/2023/04/Constitution.png
END:VEVENT
BEGIN:VEVENT
DTSTART;TZID=America/Detroit:20230617T093000
DTEND;TZID=America/Detroit:20230617T120000
DTSTAMP:20260422T175413
CREATED:20230420T192102Z
LAST-MODIFIED:20230427T122626Z
UID:3036-1686994200-1687003200@semisynod.com
SUMMARY:Peer-to-Peer Ministry
DESCRIPTION:Pastor Aaron Werner\, Presenter \nPeer-to-Peer Ministry creates safe places to find support and a training ground where young people learn to welcome\, listen to\, and accompany their peers. Our young people have a great deal of pressure placed on them. Levels of anxiety and depression are rising. My colleagues and I have worked with thousands of youth and this is what we hear: \n“Yes\, I am in conversation with friends considering suicide or self-harm.” \n“Yes\, I know someone struggling with an addiction or an eating disorder.” \n“Yes\, I talk with friends about relationship troubles and stress.” \nAnd one hundred percent of our youth say\, “YES! I want to know better how to help my friends.” \nLearn how to create safe places to for young people to find and give support\, practicing fundamental welcoming\, listening\, and helping skills.   \nRegister Here
URL:https://semisynod.com/event/peer-to-peer-ministry/
LOCATION:Prince of Peace/Ida\, 1920 Lewis Ave\, Ida\, MI\, 48140\, United States
CATEGORIES:Leadership Labs
ATTACH;FMTTYPE=image/png:https://semisynod.com/wp-content/uploads/2023/04/Peer-Ministry.png
END:VEVENT
END:VCALENDAR