BEGIN:VCALENDAR
VERSION:2.0
PRODID:-//Southeast Michigan Synod - ECPv6.15.20//NONSGML v1.0//EN
CALSCALE:GREGORIAN
METHOD:PUBLISH
X-WR-CALNAME:Southeast Michigan Synod
X-ORIGINAL-URL:https://semisynod.com
X-WR-CALDESC:Events for Southeast Michigan Synod
REFRESH-INTERVAL;VALUE=DURATION:PT1H
X-Robots-Tag:noindex
X-PUBLISHED-TTL:PT1H
BEGIN:VTIMEZONE
TZID:America/Detroit
BEGIN:DAYLIGHT
TZOFFSETFROM:-0500
TZOFFSETTO:-0400
TZNAME:EDT
DTSTART:20220313T070000
END:DAYLIGHT
BEGIN:STANDARD
TZOFFSETFROM:-0400
TZOFFSETTO:-0500
TZNAME:EST
DTSTART:20221106T060000
END:STANDARD
BEGIN:DAYLIGHT
TZOFFSETFROM:-0500
TZOFFSETTO:-0400
TZNAME:EDT
DTSTART:20230312T070000
END:DAYLIGHT
BEGIN:STANDARD
TZOFFSETFROM:-0400
TZOFFSETTO:-0500
TZNAME:EST
DTSTART:20231105T060000
END:STANDARD
BEGIN:DAYLIGHT
TZOFFSETFROM:-0500
TZOFFSETTO:-0400
TZNAME:EDT
DTSTART:20240310T070000
END:DAYLIGHT
BEGIN:STANDARD
TZOFFSETFROM:-0400
TZOFFSETTO:-0500
TZNAME:EST
DTSTART:20241103T060000
END:STANDARD
END:VTIMEZONE
BEGIN:VEVENT
DTSTART;TZID=America/Detroit:20230429T093000
DTEND;TZID=America/Detroit:20230429T110000
DTSTAMP:20260422T121101
CREATED:20230420T191127Z
LAST-MODIFIED:20230427T122812Z
UID:3023-1682760600-1682766000@semisynod.com
SUMMARY:Welcome to YouTube Channel 101
DESCRIPTION:Paul Schmidt\, Presenter \nLearn the YouTube basics of video file formats to upload; upload procedures and what is important to have and/or think about; strategies and tactics of titles and descriptions; proper thumbnail tools; playlists\, end screens and cards … maybe more! Who should attend? Anyone with questions about setting up YouTube Channels for church or yourself. Our session will be led by Paul Schmidt\, Creative Video Strategist at UnoDeuce Multimedia. To attend\, register here and a zoom link will be provided. \nRegister Here
URL:https://semisynod.com/event/welcome-to-youtube-channel-101/
LOCATION:Zoom\, online
CATEGORIES:Leadership Labs
ATTACH;FMTTYPE=image/png:https://semisynod.com/wp-content/uploads/2023/04/YouTube101.png
END:VEVENT
END:VCALENDAR